BEGIN:VCALENDAR
PRODID:-//AT Content Types//AT Event//EN
VERSION:1.0
BEGIN:VEVENT
DTSTART:20260726T220000Z
DTEND:20260731T220000Z
DCREATED:20251224T065958Z
UID:ATEvent-3e57d39e6ce44e69b0273c1225a4d0aa
SEQUENCE:0
LAST-MODIFIED:20251224T070049Z
SUMMARY:Campamento de vacaciones Fe y Luz en Suiza
DESCRIPTION:Para la provincia Montañas y Valles sin fronteras\nLugar 
 de alojamiento: Casa Bethanien - Comunidad del Chemin Neuf
LOCATION:Sankt-Niklausen\, Suiza
PRIORITY:3
TRANSP:0
END:VEVENT
END:VCALENDAR
