BEGIN:VCALENDAR
PRODID:-//AT Content Types//AT Event//EN
VERSION:1.0
BEGIN:VEVENT
DTSTART:20220807T220000Z
DTEND:20220813T220000Z
DCREATED:20220421T095422Z
UID:ATEvent-13f1246d789c48528fcf2e1d1de64c6b
SEQUENCE:0
LAST-MODIFIED:20220421T095715Z
SUMMARY:Campamento de verano Eslovenia
LOCATION:Soča\, Eslovenia
PRIORITY:3
TRANSP:0
END:VEVENT
END:VCALENDAR
