BEGIN:VCALENDAR
PRODID:-//AT Content Types//AT Event//EN
VERSION:1.0
BEGIN:VEVENT
DTSTART:20230818T220000Z
DTEND:20230825T220000Z
DCREATED:20230228T091220Z
UID:ATEvent-0a70ae55efc14dd988288711636f2e37
SEQUENCE:0
LAST-MODIFIED:20230307T145046Z
SUMMARY:Campamento de verano para las provincias de Italia
LOCATION:Cesenatico
PRIORITY:3
TRANSP:0
END:VEVENT
END:VCALENDAR
