BEGIN:VCALENDAR
PRODID:-//AT Content Types//AT Event//EN
VERSION:1.0
BEGIN:VEVENT
DTSTART:20260712T220000Z
DTEND:20260718T220000Z
DCREATED:20260211T122337Z
UID:ATEvent-38cbb474aa7e49e19f55797f50522f61
SEQUENCE:0
LAST-MODIFIED:20260211T122426Z
SUMMARY:Campamento de verano - Rumanía
DESCRIPTION:Para las comunidades rumanas
LOCATION:Marosfő (Rumanía)
PRIORITY:3
TRANSP:0
END:VEVENT
END:VCALENDAR
