BEGIN:VCALENDAR
PRODID:-//AT Content Types//AT Event//EN
VERSION:1.0
BEGIN:VEVENT
DTSTART:20231109T230000Z
DTEND:20231113T230000Z
DCREATED:20230210T145745Z
UID:ATEvent-ea0ac6c63e874a74a2581b501b91f239
SEQUENCE:0
LAST-MODIFIED:20230915T093506Z
SUMMARY:Celebración de los 50 años de Fe y Luz\, provincia Arco Iris
PRIORITY:3
TRANSP:0
END:VEVENT
END:VCALENDAR
