BEGIN:VCALENDAR
PRODID:-//AT Content Types//AT Event//EN
VERSION:1.0
BEGIN:VEVENT
DTSTART:20230820T220000Z
DTEND:20230824T220000Z
DCREATED:20221006T094823Z
UID:ATEvent-6c183358249743b08777365385a88d8f
SEQUENCE:0
LAST-MODIFIED:20221006T095427Z
SUMMARY:Celebración de verano de las Provincias Irlanda\, Faro de la Luz y Auroras Boreales
LOCATION:Castlebar\, Irlanda
PRIORITY:3
TRANSP:0
END:VEVENT
END:VCALENDAR
