BEGIN:VCALENDAR
PRODID:-//AT Content Types//AT Event//EN
VERSION:2.0
METHOD:PUBLISH
BEGIN:VEVENT
DTSTAMP:20260421T204952Z
CREATED:20260210T083748Z
UID:ATEvent-0570ad7d546941168958ab3e90ec3330
LAST-MODIFIED:20260210T084635Z
SUMMARY:Celebración del 40 aniversario de Fe y Luz (Hungría\, Rumanía\, Serbia)
DTSTART:20260709T220000Z
DTEND:20260711T220000Z
DESCRIPTION:Para la provincia del Danubio
LOCATION:Vajta\, Hungría
CLASS:PUBLIC
END:VEVENT
END:VCALENDAR
