BEGIN:VCALENDAR
PRODID:-//AT Content Types//AT Event//EN
VERSION:1.0
BEGIN:VEVENT
DTSTART:20241214T130000Z
DTEND:20241214T160000Z
DCREATED:20241018T152225Z
UID:ATEvent-bca441faba5a4fd8b3d3925ab9774aea
SEQUENCE:0
LAST-MODIFIED:20241127T074956Z
SUMMARY:Celebracion musical de Navidad -  America del Norte
LOCATION:Zoom
PRIORITY:3
TRANSP:0
END:VEVENT
END:VCALENDAR
