BEGIN:VCALENDAR
PRODID:-//AT Content Types//AT Event//EN
VERSION:2.0
METHOD:PUBLISH
BEGIN:VEVENT
DTSTAMP:20260422T074908Z
CREATED:20231129T113110Z
UID:ATEvent-38b6f4b678884106a5c75b78c9c32b0a
LAST-MODIFIED:20240223T084246Z
SUMMARY:Cena anual organizada por la provincia ILA TRINITY
DTSTART:20240411T220000Z
DTEND:20240411T220000Z
LOCATION:Libano\, lugar para confirmar
CLASS:PUBLIC
END:VEVENT
END:VCALENDAR
