BEGIN:VCALENDAR
PRODID:-//AT Content Types//AT Event//EN
VERSION:1.0
BEGIN:VEVENT
DTSTART:20261026T230000Z
DTEND:20261031T230000Z
DCREATED:20251106T161536Z
UID:ATEvent-5db4f324765347e79da454473e71a9f0
SEQUENCE:0
LAST-MODIFIED:20260129T170650Z
SUMMARY:Consejo de coordinadores
DESCRIPTION:Coordinadores de las 51 provincias de Fe y Luz\, Equipo de
  Coordinación Internacional\, Coordinador Internacional y Presidente 
 de Fe y Luz Internacional.
LOCATION:Centro Beit el Wadi\, Egipto
PRIORITY:3
TRANSP:0
END:VEVENT
END:VCALENDAR
