BEGIN:VCALENDAR
PRODID:-//AT Content Types//AT Event//EN
VERSION:1.0
BEGIN:VEVENT
DTSTART:20230803T220000Z
DTEND:20230805T220000Z
DCREATED:20230215T091453Z
UID:ATEvent-a0470ceee6864c5cae234d5f8b23cbbd
SEQUENCE:0
LAST-MODIFIED:20230215T091506Z
SUMMARY:Consejo provincial
DESCRIPTION:Santa María de Guadalupe (México)
LOCATION:Tabasco
PRIORITY:3
TRANSP:0
END:VEVENT
END:VCALENDAR
