BEGIN:VCALENDAR
PRODID:-//AT Content Types//AT Event//EN
VERSION:1.0
BEGIN:VEVENT
DTSTART:20261202T230000Z
DTEND:20261202T230000Z
DCREATED:20251230T132857Z
UID:ATEvent-3f846f23be8542869190c5fff2d51f6a
SEQUENCE:0
LAST-MODIFIED:20260120T123701Z
SUMMARY:Día Internacional de las Personas con Discapacidad
PRIORITY:3
TRANSP:0
END:VEVENT
END:VCALENDAR
