BEGIN:VCALENDAR
PRODID:-//AT Content Types//AT Event//EN
VERSION:1.0
BEGIN:VEVENT
DTSTART:20260404T220000Z
DTEND:20260404T220000Z
DCREATED:20251117T101124Z
UID:ATEvent-8cdbc336925e4641b6a82dd7f951dd06
SEQUENCE:0
LAST-MODIFIED:20260309T095409Z
SUMMARY:El Domingo de Ramos\, día para compartir
DESCRIPTION:Para las comunidades Fe y Luz de Ucrania
LOCATION:Ucrania
PRIORITY:3
TRANSP:0
END:VEVENT
END:VCALENDAR
