BEGIN:VCALENDAR
PRODID:-//AT Content Types//AT Event//EN
VERSION:1.0
BEGIN:VEVENT
DTSTART:20251226T230000Z
DTEND:20251226T230000Z
DCREATED:20251114T112846Z
UID:ATEvent-5a2b87039b1440db9db2377645872f0e
SEQUENCE:0
LAST-MODIFIED:20251114T112917Z
SUMMARY:El Festival de los Árboles de Navidad de la Catedral de Nelson\, Nueva Zelanda
DESCRIPTION:Para la comunidad «Living waters»
LOCATION:Catedral de Nelson\, 1 Trafalgar Square\, Nelson 7010\, Nueva Zelanda
PRIORITY:3
TRANSP:0
END:VEVENT
END:VCALENDAR
