BEGIN:VCALENDAR
PRODID:-//AT Content Types//AT Event//EN
VERSION:1.0
BEGIN:VEVENT
DTSTART:20260724T220000Z
DTEND:20260724T220000Z
DCREATED:20260223T115646Z
UID:ATEvent-4918f75e430a4f88b1c1743c85550a9c
SEQUENCE:0
LAST-MODIFIED:20260224T093313Z
SUMMARY:Encuentro de comunidades\, Provincia Nuestra Señora de Guadalupe
LOCATION:Via Zoom
PRIORITY:3
TRANSP:0
END:VEVENT
END:VCALENDAR
