BEGIN:VCALENDAR
PRODID:-//AT Content Types//AT Event//EN
VERSION:1.0
BEGIN:VEVENT
DTSTART:20251212T230000Z
DTEND:20251212T230000Z
DCREATED:20251124T145233Z
UID:ATEvent-6d2bcd74b6a64201b9f32f8054ee71d2
SEQUENCE:0
LAST-MODIFIED:20251125T090151Z
SUMMARY:Encuentro de jóvenes en Valladolid
DESCRIPTION:Para las provincias Terra et Mare e Iberatlántica (Lo org
 anizan los jóvenes de Salamanca).
LOCATION:Valladodid\, España
PRIORITY:3
TRANSP:0
END:VEVENT
END:VCALENDAR
