BEGIN:VCALENDAR
PRODID:-//AT Content Types//AT Event//EN
VERSION:1.0
BEGIN:VEVENT
DTSTART:20260529T220000Z
DTEND:20260529T220000Z
DCREATED:20251224T064508Z
UID:ATEvent-1d70c9168e354d23bf71136aaaf12a1b
SEQUENCE:0
LAST-MODIFIED:20251224T070241Z
SUMMARY:Encuentro intercomunitario en Suiza
DESCRIPTION:Para la provincia Montañas y Valles sin fronteras \nEncue
 ntro entre la comunidad La Colombe de Bulle (Suiza) y las Petites Mite
 s de Friburgo
LOCATION:Treyvaud\, Suiza
PRIORITY:3
TRANSP:0
END:VEVENT
END:VCALENDAR
