BEGIN:VCALENDAR
PRODID:-//AT Content Types//AT Event//EN
VERSION:2.0
METHOD:PUBLISH
BEGIN:VEVENT
DTSTAMP:20260420T133147Z
CREATED:20251128T082009Z
UID:ATEvent-8519a08d6d4948f69ab4237a2a146a64
LAST-MODIFIED:20260130T103425Z
SUMMARY:Encuentro provincial anual - Canadá
DTSTART:20260925T220000Z
DTEND:20260925T220000Z
DESCRIPTION:Para la provincia de Canada Este
LOCATION:Iglesia Nuestra Señora de Egipto\, Laval (Canadá)
CLASS:PUBLIC
END:VEVENT
END:VCALENDAR
