BEGIN:VCALENDAR
PRODID:-//AT Content Types//AT Event//EN
VERSION:1.0
BEGIN:VEVENT
DTSTART:20260212T230000Z
DTEND:20260214T230000Z
DCREATED:20251117T100206Z
UID:ATEvent-78fd057e80a245289ebdadece2ba4762
SEQUENCE:0
LAST-MODIFIED:20251117T100236Z
SUMMARY:Encuentro provincial\, Ucrania
DESCRIPTION:Para las comunidades de Lviv
LOCATION:Bryukhovychi\, suburbio de Lviv
PRIORITY:3
TRANSP:0
END:VEVENT
END:VCALENDAR
