BEGIN:VCALENDAR
PRODID:-//AT Content Types//AT Event//EN
VERSION:2.0
METHOD:PUBLISH
BEGIN:VEVENT
DTSTAMP:20260422T041443Z
CREATED:20260211T110452Z
UID:ATEvent-ede26d8ab39f4a81a3097d0d7823afeb
LAST-MODIFIED:20260211T110537Z
SUMMARY:Encuentro provincial
DTSTART:20260605T220000Z
DTEND:20260605T220000Z
DESCRIPTION:Para la provincia del Danubio (Rumanía\, Hungría\, Serbi
 a) \nIntercambio sobre las comunidades de la provincia del Danubio y l
 os próximos eventos.
LOCATION:Lugar por confirmar
CLASS:PUBLIC
END:VEVENT
END:VCALENDAR
