BEGIN:VCALENDAR
PRODID:-//AT Content Types//AT Event//EN
VERSION:2.0
METHOD:PUBLISH
BEGIN:VEVENT
DTSTAMP:20260422T054214Z
CREATED:20260224T091315Z
UID:ATEvent-9e7ece00ab7f481d80d14dea05bc29b9
LAST-MODIFIED:20260224T093107Z
SUMMARY:Espectáculo de talentos - Provincia Nuestra Señora de Guadalupe
DTSTART:20260911T220000Z
DTEND:20260911T220000Z
DESCRIPTION:Cada comunidad envía vídeos de grupos que desean mostrar
  sus talentos. Puede ser un vídeo de baile\, música o canto. Los ví
 deos se difundirán en Facebook y Zoom durante su encuentro en línea.
 
LOCATION:Via Zoom
CLASS:PUBLIC
END:VEVENT
END:VCALENDAR
