BEGIN:VCALENDAR
PRODID:-//AT Content Types//AT Event//EN
VERSION:2.0
METHOD:PUBLISH
BEGIN:VEVENT
DTSTAMP:20260422T054159Z
CREATED:20250210T103340Z
UID:ATEvent-a610e9f879474fffaf164a09b5889b76
LAST-MODIFIED:20250210T103627Z
SUMMARY:Excursión para jóvenes de la provincia de Líbano Sur Jordania
DTSTART:20250627T220000Z
DTEND:20250627T220000Z
LOCATION:Vallée des Saint – Qanoubine Bcharre\, Libano
CLASS:PUBLIC
END:VEVENT
END:VCALENDAR
