BEGIN:VCALENDAR
PRODID:-//AT Content Types//AT Event//EN
VERSION:1.0
BEGIN:VEVENT
DTSTART:20251212T230000Z
DTEND:20251212T230000Z
DCREATED:20251106T110924Z
UID:ATEvent-93999f37930348f3b63518e88a1161dd
SEQUENCE:0
LAST-MODIFIED:20251106T131502Z
SUMMARY:Feria de Navidad en Rusia
DESCRIPTION:Para las comunidades Rusas
LOCATION:Moscú\, Rusia
PRIORITY:3
TRANSP:0
END:VEVENT
END:VCALENDAR
