BEGIN:VCALENDAR
PRODID:-//AT Content Types//AT Event//EN
VERSION:2.0
METHOD:PUBLISH
BEGIN:VEVENT
DTSTAMP:20260423T083553Z
CREATED:20260304T152618Z
UID:ATEvent-760b47f82f2c40dfa50fb8cda7ffa4ef
LAST-MODIFIED:20260304T153513Z
SUMMARY:Festival de talentos
DTSTART:20260716T220000Z
DTEND:20260716T220000Z
DESCRIPTION:Provincia Jesus Luz de los Andes\n\nDurante este encuentro
 \, los amigos de las comunidades comparten sus talentos en diversos á
 mbitos  (baile\, canto\, teatro\, música\, repostería...) .\nLas com
 unidades envían sus vídeos\, que se proyectan durante el encuentro.
LOCATION:En linéa
CLASS:PUBLIC
END:VEVENT
END:VCALENDAR
