BEGIN:VCALENDAR
PRODID:-//AT Content Types//AT Event//EN
VERSION:2.0
METHOD:PUBLISH
BEGIN:VEVENT
DTSTAMP:20260422T053553Z
CREATED:20251110T145925Z
UID:ATEvent-22b68bc7d65b4218994f3621356bea08
LAST-MODIFIED:20251110T150044Z
SUMMARY:Fiesta de la Luz en Irlanda
DTSTART:20260130T230000Z
DTEND:20260130T230000Z
DESCRIPTION:Para las comunidades irlandesas
LOCATION:Dunmore\, Irlanda
CLASS:PUBLIC
END:VEVENT
END:VCALENDAR
