BEGIN:VCALENDAR
PRODID:-//AT Content Types//AT Event//EN
VERSION:1.0
BEGIN:VEVENT
DTSTART:20260130T230000Z
DTEND:20260130T230000Z
DCREATED:20251106T112648Z
UID:ATEvent-6b718aabf42146e9b548cbe5a1714698
SEQUENCE:0
LAST-MODIFIED:20251117T104244Z
SUMMARY:Fiesta de la Luz en Lituania
DESCRIPTION:Para las comunidades lituanas
LOCATION:Kretinga\, Lituania
PRIORITY:3
TRANSP:0
END:VEVENT
END:VCALENDAR
