BEGIN:VCALENDAR
PRODID:-//AT Content Types//AT Event//EN
VERSION:2.0
METHOD:PUBLISH
BEGIN:VEVENT
DTSTAMP:20260422T085823Z
CREATED:20251113T120509Z
UID:ATEvent-308af93220f345b4b7e01e5b2a695c3d
LAST-MODIFIED:20251113T154511Z
SUMMARY:Fiesta de la Luz en Portugal
DTSTART:20260131T230000Z
DTEND:20260131T230000Z
DESCRIPTION:Para las comunidades portuguesas
LOCATION:Parroquia de Vermoim en Maia\, Portugal
CLASS:PUBLIC
END:VEVENT
END:VCALENDAR
