BEGIN:VCALENDAR
PRODID:-//AT Content Types//AT Event//EN
VERSION:1.0
BEGIN:VEVENT
DTSTART:20260131T230000Z
DTEND:20260131T230000Z
DCREATED:20251114T093002Z
UID:ATEvent-d07cb3bdd2224d85bb2faa80b531fae7
SEQUENCE:0
LAST-MODIFIED:20260130T102803Z
SUMMARY:Fiesta de la Luz\, "París y el Levante"
LOCATION:Iglesia St Michel des Batignolles\, 3 Pl. Saint-Jean\, 75017 París
PRIORITY:3
TRANSP:0
END:VEVENT
END:VCALENDAR
