BEGIN:VCALENDAR
PRODID:-//AT Content Types//AT Event//EN
VERSION:1.0
BEGIN:VEVENT
DTSTART:20230203T230000Z
DTEND:20230203T230000Z
DCREATED:20221018T090816Z
UID:ATEvent-68ff9ff76c284b1a8de832b591194e5c
SEQUENCE:0
LAST-MODIFIED:20230123T101942Z
SUMMARY:Fiesta de la Luz Provincia Terra et Mare
DESCRIPTION:en todas las comunidades de Fe y Luz de la provincia
LOCATION:en las cuidades donde hay las comunidades de Fe y Luz
PRIORITY:3
TRANSP:0
END:VEVENT
END:VCALENDAR
