BEGIN:VCALENDAR
PRODID:-//AT Content Types//AT Event//EN
VERSION:2.0
METHOD:PUBLISH
BEGIN:VEVENT
DTSTAMP:20260422T071301Z
CREATED:20251117T093856Z
UID:ATEvent-528bbca670b6430b9a79f48acdec0611
LAST-MODIFIED:20260129T161156Z
SUMMARY:Fiesta de la Luz\, Ucrania
DTSTART:20260201T230000Z
DTEND:20260201T230000Z
DESCRIPTION:Para las comunidades ucranianas
LOCATION:Ucrania
CLASS:PUBLIC
END:VEVENT
END:VCALENDAR
