BEGIN:VCALENDAR
PRODID:-//AT Content Types//AT Event//EN
VERSION:1.0
BEGIN:VEVENT
DTSTART:20251206T230000Z
DTEND:20251206T230000Z
DCREATED:20251110T153043Z
UID:ATEvent-a7238ad0a27740928bf465c005149fc0
SEQUENCE:0
LAST-MODIFIED:20251110T153700Z
SUMMARY:Fiesta de la Natividad en Santo Domingo
DESCRIPTION:Para las comunidades de la República Dominicana
LOCATION:Santo Domingo\, República Dominicana
PRIORITY:3
TRANSP:0
END:VEVENT
END:VCALENDAR
