BEGIN:VCALENDAR
PRODID:-//AT Content Types//AT Event//EN
VERSION:1.0
BEGIN:VEVENT
DTSTART:20250227T144000Z
DTEND:20250227T144000Z
DCREATED:20250227T144014Z
UID:ATEvent-b165b60896e34eaf9cb320b1760ea73f
SEQUENCE:0
LAST-MODIFIED:20250227T144057Z
SUMMARY:Fiesta de las comunidades de la provincia Renacer (Brasil)
LOCATION:Parroquia de San Francisco de Asís\, Aracaju\, Brasil
PRIORITY:3
TRANSP:0
END:VEVENT
END:VCALENDAR
