BEGIN:VCALENDAR
PRODID:-//AT Content Types//AT Event//EN
VERSION:1.0
BEGIN:VEVENT
DTSTART:20260523T220000Z
DTEND:20260523T220000Z
DCREATED:20260219T135439Z
UID:ATEvent-8efca54d545845ffb29d5668cc5d678d
SEQUENCE:0
LAST-MODIFIED:20260219T140237Z
SUMMARY:Fiesta de Primavera - Comunidades de Roma
DESCRIPTION:En Roma\, durante el mes de mayo\, las 15 comunidades de R
 oma se reúnen en un espacio verde para vivir un momento de acogida\, 
 juegos\, compartir y celebración de la misa.\nEs un gran encuentro qu
 e reúne entre 150 y 170 personas.
LOCATION:Roma (Italia)
PRIORITY:3
TRANSP:0
END:VEVENT
END:VCALENDAR
