BEGIN:VCALENDAR
PRODID:-//AT Content Types//AT Event//EN
VERSION:2.0
METHOD:PUBLISH
BEGIN:VEVENT
DTSTAMP:20260422T071321Z
CREATED:20251117T090822Z
UID:ATEvent-ea82507d688f46b0bb8906209fd609aa
LAST-MODIFIED:20251117T092005Z
SUMMARY:Fiesta de San Nicolás\, Ucrania
DTSTART:20251205T230000Z
DTEND:20251205T230000Z
DESCRIPTION:Para las comunidades ucranianas
LOCATION:Ucrania
CLASS:PUBLIC
END:VEVENT
END:VCALENDAR
