BEGIN:VCALENDAR
PRODID:-//AT Content Types//AT Event//EN
VERSION:1.0
BEGIN:VEVENT
DTSTART:20260626T220000Z
DTEND:20260626T220000Z
DCREATED:20251201T115156Z
UID:ATEvent-50fe7b886c8f4e588a117395894c1d4a
SEQUENCE:0
LAST-MODIFIED:20251201T120328Z
SUMMARY:Fiesta nocturna (sur del Líbano)
DESCRIPTION:Para las comunidades del sur del Líbano (para familias\, 
 jóvenes...) \nTalleres para padres seguidos de una cena.
LOCATION:Líbano (lugar por especificar)
PRIORITY:3
TRANSP:0
END:VEVENT
END:VCALENDAR
