BEGIN:VCALENDAR
PRODID:-//AT Content Types//AT Event//EN
VERSION:1.0
BEGIN:VEVENT
DTSTART:20260412T220000Z
DTEND:20260412T220000Z
DCREATED:20260105T120641Z
UID:ATEvent-009d9809b7824634a498ad8f35c4d882
SEQUENCE:0
LAST-MODIFIED:20260105T120707Z
SUMMARY:Fiesta tradicional de la ciudad de Salamanca (Lunes de aguas Salmantino)
DESCRIPTION:Comunidades de Castilla \nSe celebra el lunes siguiente al
  Domingo de Pascua.
LOCATION:Salamanca\, Espana
PRIORITY:3
TRANSP:0
END:VEVENT
END:VCALENDAR
