BEGIN:VCALENDAR
PRODID:-//AT Content Types//AT Event//EN
VERSION:2.0
METHOD:PUBLISH
BEGIN:VEVENT
DTSTAMP:20260421T162604Z
CREATED:20250210T111557Z
UID:ATEvent-5b69fc2871f4488a81450e1ca1bef85b
LAST-MODIFIED:20250210T111603Z
SUMMARY:Formación de jóvenes de la provincia de Líbano Sur Jordania
DTSTART:20251121T230000Z
DTEND:20251122T230000Z
LOCATION:Lugar para confirmar
CLASS:PUBLIC
END:VEVENT
END:VCALENDAR
