BEGIN:VCALENDAR
PRODID:-//AT Content Types//AT Event//EN
VERSION:2.0
METHOD:PUBLISH
BEGIN:VEVENT
DTSTAMP:20260421T184620Z
CREATED:20260211T124149Z
UID:ATEvent-8a4cd05fd0514135811d79d6f24b6a04
LAST-MODIFIED:20260304T151259Z
SUMMARY:Formación para coordinadores
DTSTART:20261021T220000Z
DTEND:20261024T220000Z
DESCRIPTION:Para la provincia del Danubio
LOCATION:Leányfalu (Hungría)
CLASS:PUBLIC
END:VEVENT
END:VCALENDAR
