BEGIN:VCALENDAR
PRODID:-//AT Content Types//AT Event//EN
VERSION:1.0
BEGIN:VEVENT
DTSTART:20261001T220000Z
DTEND:20261003T220000Z
DCREATED:20260223T084532Z
UID:ATEvent-1605770a8fe44e4cb2ebc7a1f0175d65
SEQUENCE:0
LAST-MODIFIED:20260223T084930Z
SUMMARY:Formación y retiro para las comunidades de Gauteng
DESCRIPTION:La provincia África Capricornio
LOCATION:Edenvale Methodist Church\, 57 6th Ave\, Edenvale\, 1610\, Sudáfrica
PRIORITY:3
TRANSP:0
END:VEVENT
END:VCALENDAR
