BEGIN:VCALENDAR
PRODID:-//AT Content Types//AT Event//EN
VERSION:1.0
BEGIN:VEVENT
DTSTART:20260612T220000Z
DTEND:20260612T220000Z
DCREATED:20251113T104447Z
UID:ATEvent-156dac5a9512400194f4930e7a3b5975
SEQUENCE:0
LAST-MODIFIED:20260129T165147Z
SUMMARY:Jornada de peregrinación provincia Canadá Este
DESCRIPTION:Tema: «Volver a los orígenes»
LOCATION:Santuario de Nuestra Señora de Lourdes de Rigaud\, Canadá
PRIORITY:3
TRANSP:0
END:VEVENT
END:VCALENDAR
