BEGIN:VCALENDAR
PRODID:-//AT Content Types//AT Event//EN
VERSION:2.0
METHOD:PUBLISH
BEGIN:VEVENT
DTSTAMP:20260422T071726Z
CREATED:20251125T145408Z
UID:ATEvent-34fd54af3dc04dde95f6504717f13319
LAST-MODIFIED:20260130T101625Z
SUMMARY:Fiesta de la luz\, Polonia
DTSTART:20260130T230000Z
DTEND:20260130T230000Z
DESCRIPTION:Para la provincia del sur de Polonia
LOCATION:Parroquia de Santa Bárbara\, calle Ks.St. Pieli\, 11\, Libiąż (Polonia)
CLASS:PUBLIC
END:VEVENT
END:VCALENDAR
