BEGIN:VCALENDAR
PRODID:-//AT Content Types//AT Event//EN
VERSION:1.0
BEGIN:VEVENT
DTSTART:20251205T230000Z
DTEND:20251205T230000Z
DCREATED:20251124T153511Z
UID:ATEvent-391d4c219bc5438d9b2ac743f66c3b91
SEQUENCE:0
LAST-MODIFIED:20251125T085846Z
SUMMARY:La provincia EST de EE. UU. celebra la llegada de la Navidad
DESCRIPTION:Invitamos a todos los miembros de Fe y Luz a compartir sus
  talentos para alabar a nuestro Señor: cantar una canción\, tocar un
  instrumento\, recitar un poema\, realizar una manualidad...
LOCATION:Zoom a las 14:00
PRIORITY:3
TRANSP:0
END:VEVENT
END:VCALENDAR
