BEGIN:VCALENDAR
PRODID:-//AT Content Types//AT Event//EN
VERSION:2.0
METHOD:PUBLISH
BEGIN:VEVENT
DTSTAMP:20260422T075841Z
CREATED:20251125T093050Z
UID:ATEvent-959bd58cf2b44901ba77045f0c9587a7
LAST-MODIFIED:20251125T161645Z
SUMMARY:Misa para las comunidades Fe y Luz de Cracovia
DTSTART:20251220T230000Z
DTEND:20251220T230000Z
DESCRIPTION:Para las comunidades del sur de Polonia\, \nMisa a las 3 p
 . m.
LOCATION:Franciscan Basilica of Saint Francis of Assisi (Italian Hall)\, 5 Tous-les-Saints Square\, 31-004 Krakow
CLASS:PUBLIC
END:VEVENT
END:VCALENDAR
