BEGIN:VCALENDAR
PRODID:-//AT Content Types//AT Event//EN
VERSION:2.0
METHOD:PUBLISH
BEGIN:VEVENT
DTSTAMP:20260421T194908Z
CREATED:20251125T154244Z
UID:ATEvent-1540f2208e8842bea7f2a7d9c8ce9171
LAST-MODIFIED:20251125T154305Z
SUMMARY:Misa de las comunidades Fe y Luz en Cracovia\, Polonia
DTSTART:20260620T220000Z
DTEND:20260620T220000Z
DESCRIPTION:Para la provincia del sur de Polonia 15:00
LOCATION:Basílica franciscana de San Francisco de Asís (sala italiana)\, 5 place Tous-les-Saints\, 31-004 Cracovia
CLASS:PUBLIC
END:VEVENT
END:VCALENDAR
