BEGIN:VCALENDAR
PRODID:-//AT Content Types//AT Event//EN
VERSION:2.0
METHOD:PUBLISH
BEGIN:VEVENT
DTSTAMP:20260422T044758Z
CREATED:20251125T144513Z
UID:ATEvent-f8361db9658e4d26a545d38ce6f21b67
LAST-MODIFIED:20251125T162107Z
SUMMARY:Misa de las comunidades Fe y Luz\, Polonia
DTSTART:20260124T230000Z
DTEND:20260124T230000Z
DESCRIPTION:Para la provincia del sur de Polonia\n15H
LOCATION:Basílica Franciscana de San Francisco de Asís (Sala Italiana)\, Plaza de Todos los Santos\, 5\, 31-004 Cracovia
CLASS:PUBLIC
END:VEVENT
END:VCALENDAR
