BEGIN:VCALENDAR
PRODID:-//AT Content Types//AT Event//EN
VERSION:1.0
BEGIN:VEVENT
DTSTART:20251230T230000Z
DTEND:20251230T230000Z
DCREATED:20251106T104030Z
UID:ATEvent-1f97422cc8f14964bdf96197e66807e4
SEQUENCE:0
LAST-MODIFIED:20251114T094258Z
SUMMARY:Nochevieja de Fe y Luz Paris
DESCRIPTION:organisado por la provincia de "Paris et le Levant"
LOCATION:Parroquia Saint Séverin\, Paris
PRIORITY:3
TRANSP:0
END:VEVENT
END:VCALENDAR
