BEGIN:VCALENDAR
PRODID:-//AT Content Types//AT Event//EN
VERSION:2.0
METHOD:PUBLISH
BEGIN:VEVENT
DTSTAMP:20260422T043345Z
CREATED:20251117T093422Z
UID:ATEvent-7f266aad764c4874a9f6ecebda5044b0
LAST-MODIFIED:20251117T094730Z
SUMMARY:Oración por la paz\, Ucrania
DTSTART:20251230T230000Z
DTEND:20251230T230000Z
DESCRIPTION:Para las provincias vicarias y las comunidades ucranianas
LOCATION:Universidad Católica Ucraniana\, Lviv
CLASS:PUBLIC
END:VEVENT
END:VCALENDAR
