BEGIN:VCALENDAR
PRODID:-//AT Content Types//AT Event//EN
VERSION:1.0
BEGIN:VEVENT
DTSTART:20261212T230000Z
DTEND:20261212T230000Z
DCREATED:20260224T095453Z
UID:ATEvent-39b7ea6a868244c59078b2b159ae8d28
SEQUENCE:0
LAST-MODIFIED:20260224T095533Z
SUMMARY:Pastorela - Provincia Nuestra Señora de Guadalupe
DESCRIPTION:La pastorela es una obra de teatro tradicional mexicana qu
 e combina folclore y humor\, música y danza. Se representa especialme
 nte en Navidad y cuenta la historia de los pastores que intentan llega
 r a Belén para ver a Jesús. En el camino\, se enfrentan a obstáculo
 s que les impone el diablo antes de recibir la ayuda de los ángeles. 
 Este espectáculo navideño tradicional se retransmitirá en directo a
  través de Zoom para que todas las comunidades puedan verlo.
LOCATION:Via Zoom
PRIORITY:3
TRANSP:0
END:VEVENT
END:VCALENDAR
