BEGIN:VCALENDAR
PRODID:-//AT Content Types//AT Event//EN
VERSION:2.0
METHOD:PUBLISH
BEGIN:VEVENT
DTSTAMP:20260421T120409Z
CREATED:20220421T101740Z
UID:ATEvent-47a92e889f64484d81312616a5a3df30
LAST-MODIFIED:20221214T103202Z
SUMMARY:Peregrinación al Santuario de Nuestra Señora de Guadalupe
DTSTART:20221209T230000Z
DTEND:20221209T230000Z
LOCATION:Chihuahua\, Mexico
CLASS:PUBLIC
END:VEVENT
END:VCALENDAR
