BEGIN:VCALENDAR
PRODID:-//AT Content Types//AT Event//EN
VERSION:1.0
BEGIN:VEVENT
DTSTART:20240524T220000Z
DTEND:20240524T220000Z
DCREATED:20240521T145045Z
UID:ATEvent-3759bd6bd6804950a0287612f8cc651c
SEQUENCE:0
LAST-MODIFIED:20240524T135132Z
SUMMARY:Peregrinación de la Provincia de Polonia del Sur
DESCRIPTION:Se celebra una peregrinación en Polonia\, en un Santuario
  «Nuestra Señora Reina de Podhale» en Ludźmierz
LOCATION:Ludźmierz\, Polonia del Sur
PRIORITY:3
TRANSP:0
END:VEVENT
END:VCALENDAR
